BEGIN:VCALENDAR
VERSION:2.0
PRODID:-//Metal Township Fire Company - ECPv6.15.17.1//NONSGML v1.0//EN
CALSCALE:GREGORIAN
METHOD:PUBLISH
X-WR-CALNAME:Metal Township Fire Company
X-ORIGINAL-URL:https://metaltwpfire.com
X-WR-CALDESC:Events for Metal Township Fire Company
REFRESH-INTERVAL;VALUE=DURATION:PT1H
X-Robots-Tag:noindex
X-PUBLISHED-TTL:PT1H
BEGIN:VTIMEZONE
TZID:America/New_York
BEGIN:DAYLIGHT
TZOFFSETFROM:-0500
TZOFFSETTO:-0400
TZNAME:EDT
DTSTART:20240310T070000
END:DAYLIGHT
BEGIN:STANDARD
TZOFFSETFROM:-0400
TZOFFSETTO:-0500
TZNAME:EST
DTSTART:20241103T060000
END:STANDARD
BEGIN:DAYLIGHT
TZOFFSETFROM:-0500
TZOFFSETTO:-0400
TZNAME:EDT
DTSTART:20250309T070000
END:DAYLIGHT
BEGIN:STANDARD
TZOFFSETFROM:-0400
TZOFFSETTO:-0500
TZNAME:EST
DTSTART:20251102T060000
END:STANDARD
BEGIN:DAYLIGHT
TZOFFSETFROM:-0500
TZOFFSETTO:-0400
TZNAME:EDT
DTSTART:20260308T070000
END:DAYLIGHT
BEGIN:STANDARD
TZOFFSETFROM:-0400
TZOFFSETTO:-0500
TZNAME:EST
DTSTART:20261101T060000
END:STANDARD
END:VTIMEZONE
BEGIN:VEVENT
DTSTART;TZID=America/New_York:20250322T090000
DTEND;TZID=America/New_York:20250322T140000
DTSTAMP:20260422T121230
CREATED:20250302T132506Z
LAST-MODIFIED:20250302T213652Z
UID:10000115-1742634000-1742652000@metaltwpfire.com
SUMMARY:United Way Franklin Co (VITA) Free Tax Prep Assistance
DESCRIPTION:United Way Franklin Co is offering free Tax Preparation assistance at the Metal Township Fire Station in Fannettsburg \nAppointments are required – call 717-262-0015 to inquire about your eligibility and to schedule an appointment with an IRA trained and certified volunteers!! \nSee flyer for more details……  one day only on March 22nd in Fannettsburg or other dates are available at other locations throughout the county. \n 
URL:https://metaltwpfire.com/event/free-tax-prep-assistance/
LOCATION:Metal Township Fire & Ambulance Co #21\, 10862 Path Valley Rd\, Fannettsburg\, PA\, 17221\, United States
CATEGORIES:Community Event
ATTACH;FMTTYPE=image/jpeg:https://metaltwpfire.com/wp-content/uploads/2025/03/VITA-2025.jpg
END:VEVENT
END:VCALENDAR