BEGIN:VCALENDAR
VERSION:2.0
PRODID:-//Metal Township Fire Company - ECPv6.15.17.1//NONSGML v1.0//EN
CALSCALE:GREGORIAN
METHOD:PUBLISH
X-ORIGINAL-URL:https://metaltwpfire.com
X-WR-CALDESC:Events for Metal Township Fire Company
REFRESH-INTERVAL;VALUE=DURATION:PT1H
X-Robots-Tag:noindex
X-PUBLISHED-TTL:PT1H
BEGIN:VTIMEZONE
TZID:America/New_York
BEGIN:DAYLIGHT
TZOFFSETFROM:-0500
TZOFFSETTO:-0400
TZNAME:EDT
DTSTART:20240310T070000
END:DAYLIGHT
BEGIN:STANDARD
TZOFFSETFROM:-0400
TZOFFSETTO:-0500
TZNAME:EST
DTSTART:20241103T060000
END:STANDARD
BEGIN:DAYLIGHT
TZOFFSETFROM:-0500
TZOFFSETTO:-0400
TZNAME:EDT
DTSTART:20250309T070000
END:DAYLIGHT
BEGIN:STANDARD
TZOFFSETFROM:-0400
TZOFFSETTO:-0500
TZNAME:EST
DTSTART:20251102T060000
END:STANDARD
BEGIN:DAYLIGHT
TZOFFSETFROM:-0500
TZOFFSETTO:-0400
TZNAME:EDT
DTSTART:20260308T070000
END:DAYLIGHT
BEGIN:STANDARD
TZOFFSETFROM:-0400
TZOFFSETTO:-0500
TZNAME:EST
DTSTART:20261101T060000
END:STANDARD
END:VTIMEZONE
BEGIN:VEVENT
DTSTART;TZID=America/New_York:20251115T060000
DTEND;TZID=America/New_York:20251115T100000
DTSTAMP:20260422T121630
CREATED:20250302T200505Z
LAST-MODIFIED:20250302T200505Z
UID:10000133-1763186400-1763200800@metaltwpfire.com
SUMMARY:AYCE Breakfast
DESCRIPTION:Monthly Breakfast – runs September through April \nMenu Includes: \nSausage Gravy & Biscuits \nSausage Links \nScrambled Eggs \nFried Potatoes \nPuddin’ (when available) \nButtermilk Pancakes\, Buckwheat Pancakes\, Blueberry Pancakes\, Chocolate Chip Pancakes\, French Toast \nMixed Fruit Cocktail \nJuice\, Coffee and Hot Chocolate
URL:https://metaltwpfire.com/event/ayce-breakfast-7/
LOCATION:Metal Township Fire & Ambulance Co #21\, 10862 Path Valley Rd\, Fannettsburg\, PA\, 17221\, United States
CATEGORIES:Breakfast
ATTACH;FMTTYPE=image/jpeg:https://metaltwpfire.com/wp-content/uploads/2024/09/Breakfast.jpg
END:VEVENT
END:VCALENDAR