BEGIN:VCALENDAR
VERSION:2.0
PRODID:-//Metal Township Fire Company - ECPv6.15.17.1//NONSGML v1.0//EN
CALSCALE:GREGORIAN
METHOD:PUBLISH
X-WR-CALNAME:Metal Township Fire Company
X-ORIGINAL-URL:https://metaltwpfire.com
X-WR-CALDESC:Events for Metal Township Fire Company
REFRESH-INTERVAL;VALUE=DURATION:PT1H
X-Robots-Tag:noindex
X-PUBLISHED-TTL:PT1H
BEGIN:VTIMEZONE
TZID:America/New_York
BEGIN:DAYLIGHT
TZOFFSETFROM:-0500
TZOFFSETTO:-0400
TZNAME:EDT
DTSTART:20240310T070000
END:DAYLIGHT
BEGIN:STANDARD
TZOFFSETFROM:-0400
TZOFFSETTO:-0500
TZNAME:EST
DTSTART:20241103T060000
END:STANDARD
BEGIN:DAYLIGHT
TZOFFSETFROM:-0500
TZOFFSETTO:-0400
TZNAME:EDT
DTSTART:20250309T070000
END:DAYLIGHT
BEGIN:STANDARD
TZOFFSETFROM:-0400
TZOFFSETTO:-0500
TZNAME:EST
DTSTART:20251102T060000
END:STANDARD
BEGIN:DAYLIGHT
TZOFFSETFROM:-0500
TZOFFSETTO:-0400
TZNAME:EDT
DTSTART:20260308T070000
END:DAYLIGHT
BEGIN:STANDARD
TZOFFSETFROM:-0400
TZOFFSETTO:-0500
TZNAME:EST
DTSTART:20261101T060000
END:STANDARD
END:VTIMEZONE
BEGIN:VEVENT
DTSTART;TZID=America/New_York:20251220T060000
DTEND;TZID=America/New_York:20251220T100000
DTSTAMP:20260422T074412
CREATED:20250302T200557Z
LAST-MODIFIED:20250302T200557Z
UID:10000134-1766210400-1766224800@metaltwpfire.com
SUMMARY:AYCE Breakfast
DESCRIPTION:Monthly Breakfast – runs September through April \nMenu Includes: \nSausage Gravy & Biscuits \nSausage Links \nScrambled Eggs \nFried Potatoes \nPuddin’ (when available) \nButtermilk Pancakes\, Buckwheat Pancakes\, Blueberry Pancakes\, Chocolate Chip Pancakes\, French Toast \nMixed Fruit Cocktail \nJuice\, Coffee and Hot Chocolate
URL:https://metaltwpfire.com/event/ayce-breakfast-8/
LOCATION:Metal Township Fire & Ambulance Co #21\, 10862 Path Valley Rd\, Fannettsburg\, PA\, 17221\, United States
CATEGORIES:Breakfast
ATTACH;FMTTYPE=image/jpeg:https://metaltwpfire.com/wp-content/uploads/2024/09/Breakfast.jpg
END:VEVENT
BEGIN:VEVENT
DTSTART;TZID=America/New_York:20251115T060000
DTEND;TZID=America/New_York:20251115T100000
DTSTAMP:20260422T074412
CREATED:20250302T200505Z
LAST-MODIFIED:20250302T200505Z
UID:10000133-1763186400-1763200800@metaltwpfire.com
SUMMARY:AYCE Breakfast
DESCRIPTION:Monthly Breakfast – runs September through April \nMenu Includes: \nSausage Gravy & Biscuits \nSausage Links \nScrambled Eggs \nFried Potatoes \nPuddin’ (when available) \nButtermilk Pancakes\, Buckwheat Pancakes\, Blueberry Pancakes\, Chocolate Chip Pancakes\, French Toast \nMixed Fruit Cocktail \nJuice\, Coffee and Hot Chocolate
URL:https://metaltwpfire.com/event/ayce-breakfast-7/
LOCATION:Metal Township Fire & Ambulance Co #21\, 10862 Path Valley Rd\, Fannettsburg\, PA\, 17221\, United States
CATEGORIES:Breakfast
ATTACH;FMTTYPE=image/jpeg:https://metaltwpfire.com/wp-content/uploads/2024/09/Breakfast.jpg
END:VEVENT
BEGIN:VEVENT
DTSTART;TZID=America/New_York:20251018T060000
DTEND;TZID=America/New_York:20251018T100000
DTSTAMP:20260422T074412
CREATED:20250302T200408Z
LAST-MODIFIED:20250302T200408Z
UID:10000132-1760767200-1760781600@metaltwpfire.com
SUMMARY:AYCE Breakfast
DESCRIPTION:Monthly Breakfast – runs September through April \nMenu Includes: \nSausage Gravy & Biscuits \nSausage Links \nScrambled Eggs \nFried Potatoes \nPuddin’ (when available) \nButtermilk Pancakes\, Buckwheat Pancakes\, Blueberry Pancakes\, Chocolate Chip Pancakes\, French Toast \nMixed Fruit Cocktail \nJuice\, Coffee and Hot Chocolate
URL:https://metaltwpfire.com/event/ayce-breakfast-6/
LOCATION:Metal Township Fire & Ambulance Co #21\, 10862 Path Valley Rd\, Fannettsburg\, PA\, 17221\, United States
CATEGORIES:Breakfast
ATTACH;FMTTYPE=image/jpeg:https://metaltwpfire.com/wp-content/uploads/2024/09/Breakfast.jpg
END:VEVENT
BEGIN:VEVENT
DTSTART;TZID=America/New_York:20250920T060000
DTEND;TZID=America/New_York:20250920T100000
DTSTAMP:20260422T074412
CREATED:20250302T200252Z
LAST-MODIFIED:20250302T200252Z
UID:10000131-1758348000-1758362400@metaltwpfire.com
SUMMARY:AYCE Breakfast
DESCRIPTION:Monthly Breakfast – runs September through April \nMenu Includes: \nSausage Gravy & Biscuits \nSausage Links \nScrambled Eggs \nFried Potatoes \nPuddin’ (when available) \nButtermilk Pancakes\, Buckwheat Pancakes\, Blueberry Pancakes\, Chocolate Chip Pancakes\, French Toast \nMixed Fruit Cocktail \nJuice\, Coffee and Hot Chocolate
URL:https://metaltwpfire.com/event/ayce-breakfast-5/
LOCATION:Metal Township Fire & Ambulance Co #21\, 10862 Path Valley Rd\, Fannettsburg\, PA\, 17221\, United States
CATEGORIES:Breakfast
ATTACH;FMTTYPE=image/jpeg:https://metaltwpfire.com/wp-content/uploads/2024/09/Breakfast.jpg
END:VEVENT
BEGIN:VEVENT
DTSTART;TZID=America/New_York:20250419T060000
DTEND;TZID=America/New_York:20250419T100000
DTSTAMP:20260422T074412
CREATED:20250302T200137Z
LAST-MODIFIED:20250302T200137Z
UID:10000130-1745042400-1745056800@metaltwpfire.com
SUMMARY:AYCE Breakfast
DESCRIPTION:Monthly Breakfast – runs September through April \nMenu Includes: \nSausage Gravy & Biscuits \nSausage Links \nScrambled Eggs \nFried Potatoes \nPuddin’ (when available) \nButtermilk Pancakes\, Buckwheat Pancakes\, Blueberry Pancakes\, Chocolate Chip Pancakes\, French Toast \nMixed Fruit Cocktail \nJuice\, Coffee and Hot Chocolate
URL:https://metaltwpfire.com/event/ayce-breakfast/
LOCATION:Metal Township Fire & Ambulance Co #21\, 10862 Path Valley Rd\, Fannettsburg\, PA\, 17221\, United States
CATEGORIES:Breakfast
ATTACH;FMTTYPE=image/jpeg:https://metaltwpfire.com/wp-content/uploads/2024/09/Breakfast.jpg
END:VEVENT
BEGIN:VEVENT
DTSTART;TZID=America/New_York:20250315T060000
DTEND;TZID=America/New_York:20250315T100000
DTSTAMP:20260422T074412
CREATED:20250302T141607Z
LAST-MODIFIED:20250302T141607Z
UID:10000121-1742018400-1742032800@metaltwpfire.com
SUMMARY:AYCE Breakfast
DESCRIPTION:Monthly Breakfast – runs September through April \nMenu Includes: \nSausage Gravy & Biscuits \nSausage Links \nScrambled Eggs \nFried Potatoes \nPuddin’ (when available) \nButtermilk Pancakes\, Buckwheat Pancakes\, Blueberry Pancakes\, Chocolate Chip Pancakes\, French Toast \nMixed Fruit Cocktail \nJuice\, Coffee and Hot Chocolate
URL:https://metaltwpfire.com/event/ayce-breakfast-3/
LOCATION:Metal Township Fire & Ambulance Co #21\, 10862 Path Valley Rd\, Fannettsburg\, PA\, 17221\, United States
CATEGORIES:Breakfast
ATTACH;FMTTYPE=image/jpeg:https://metaltwpfire.com/wp-content/uploads/2024/09/Breakfast.jpg
END:VEVENT
BEGIN:VEVENT
DTSTART;TZID=America/New_York:20250215T060000
DTEND;TZID=America/New_York:20250215T100000
DTSTAMP:20260422T074412
CREATED:20250302T141914Z
LAST-MODIFIED:20250302T141914Z
UID:10000123-1739599200-1739613600@metaltwpfire.com
SUMMARY:AYCE Breakfast
DESCRIPTION:Monthly Breakfast – runs September through April \nMenu Includes: \nSausage Gravy & Biscuits \nSausage Links \nScrambled Eggs \nFried Potatoes \nPuddin’ (when available) \nButtermilk Pancakes\, Buckwheat Pancakes\, Blueberry Pancakes\, Chocolate Chip Pancakes\, French Toast \nMixed Fruit Cocktail \nJuice\, Coffee and Hot Chocolate
URL:https://metaltwpfire.com/event/ayce-breakfast-4/
LOCATION:Metal Township Fire & Ambulance Co #21\, 10862 Path Valley Rd\, Fannettsburg\, PA\, 17221\, United States
CATEGORIES:Breakfast
ATTACH;FMTTYPE=image/jpeg:https://metaltwpfire.com/wp-content/uploads/2024/09/Breakfast.jpg
END:VEVENT
BEGIN:VEVENT
DTSTART;TZID=America/New_York:20250118T060000
DTEND;TZID=America/New_York:20250118T100000
DTSTAMP:20260422T074412
CREATED:20250113T224134Z
LAST-MODIFIED:20250113T224134Z
UID:10000104-1737180000-1737194400@metaltwpfire.com
SUMMARY:AYCE Breakfast
DESCRIPTION:Monthly Breakfast – runs September through April  \nMenu Includes: \nSausage Gravy & Biscuits \nSausage Links \nScrambled Eggs \nFried Potatoes \nPuddin’ (when available) \nButtermilk Pancakes\, Buckwheat Pancakes\, Blueberry Pancakes\, Chocolate Chip Pancakes\, French Toast \nMixed Fruit Cocktail \nJuice\, Coffee and Hot Chocolate \n 
URL:https://metaltwpfire.com/event/ayce-breakfast-2/
LOCATION:Metal Township Fire & Ambulance Co #21\, 10862 Path Valley Rd\, Fannettsburg\, PA\, 17221\, United States
CATEGORIES:Breakfast
ATTACH;FMTTYPE=image/jpeg:https://metaltwpfire.com/wp-content/uploads/2024/09/Breakfast.jpg
END:VEVENT
END:VCALENDAR