BEGIN:VCALENDAR
VERSION:2.0
PRODID:-//Metal Township Fire Company - ECPv6.15.17.1//NONSGML v1.0//EN
CALSCALE:GREGORIAN
METHOD:PUBLISH
X-WR-CALNAME:Metal Township Fire Company
X-ORIGINAL-URL:https://metaltwpfire.com
X-WR-CALDESC:Events for Metal Township Fire Company
REFRESH-INTERVAL;VALUE=DURATION:PT1H
X-Robots-Tag:noindex
X-PUBLISHED-TTL:PT1H
BEGIN:VTIMEZONE
TZID:America/New_York
BEGIN:DAYLIGHT
TZOFFSETFROM:-0500
TZOFFSETTO:-0400
TZNAME:EDT
DTSTART:20240310T070000
END:DAYLIGHT
BEGIN:STANDARD
TZOFFSETFROM:-0400
TZOFFSETTO:-0500
TZNAME:EST
DTSTART:20241103T060000
END:STANDARD
BEGIN:DAYLIGHT
TZOFFSETFROM:-0500
TZOFFSETTO:-0400
TZNAME:EDT
DTSTART:20250309T070000
END:DAYLIGHT
BEGIN:STANDARD
TZOFFSETFROM:-0400
TZOFFSETTO:-0500
TZNAME:EST
DTSTART:20251102T060000
END:STANDARD
BEGIN:DAYLIGHT
TZOFFSETFROM:-0500
TZOFFSETTO:-0400
TZNAME:EDT
DTSTART:20260308T070000
END:DAYLIGHT
BEGIN:STANDARD
TZOFFSETFROM:-0400
TZOFFSETTO:-0500
TZNAME:EST
DTSTART:20261101T060000
END:STANDARD
END:VTIMEZONE
BEGIN:VEVENT
DTSTART;TZID=America/New_York:20250510T110000
DTEND;TZID=America/New_York:20250510T130000
DTSTAMP:20260422T151616
CREATED:20250302T210847Z
LAST-MODIFIED:20250302T213711Z
UID:10000139-1746874800-1746882000@metaltwpfire.com
SUMMARY:BBQ Chicken Sale
DESCRIPTION:May 10th    pick up is 11 am to 1 pm \nPreorder your BBQ Chicken by calling KT @ 717-877-7082 or Connie @ 717-816-5917 by APRIL 30TH \nHalves or Dinners will be available – more details coming soon
URL:https://metaltwpfire.com/event/bbq-chicken-sale/
LOCATION:Metal Township Fire & Ambulance Co #21\, 10862 Path Valley Rd\, Fannettsburg\, PA\, 17221\, United States
CATEGORIES:Fundraising
ATTACH;FMTTYPE=image/jpeg:https://metaltwpfire.com/wp-content/uploads/2025/03/5-15-21-BBQ2.jpg
END:VEVENT
BEGIN:VEVENT
DTSTART;TZID=America/New_York:20250526T070000
DTEND;TZID=America/New_York:20250526T170000
DTSTAMP:20260422T151616
CREATED:20250302T212413Z
LAST-MODIFIED:20250322T134846Z
UID:10000140-1748242800-1748278800@metaltwpfire.com
SUMMARY:1st Annual Route 75 Yard Sale
DESCRIPTION:Memorial Day Monday \nPlanning is in the works for a Route 75 Yardsale – 25 miles long from Fort Loudon to Concord \nSpaces will be available at the Fire Co in Fannettsburg for $15 Contact Sherry @ 717-372-1107 for inquiries and to reserve a space \nLocals are encouraged to set up in yards and at businesses along Route 75 \nWe hope to grow this event year after year and draw in customers from Franklin County\, Fulton County and beyond!!! \n  \nMore details coming…….
URL:https://metaltwpfire.com/event/1st-annual-route-75-yard-sale/
LOCATION:Metal Township Fire & Ambulance Co #21\, 10862 Path Valley Rd\, Fannettsburg\, PA\, 17221\, United States
CATEGORIES:Fundraising
ATTACH;FMTTYPE=image/jpeg:https://metaltwpfire.com/wp-content/uploads/2025/03/Yard-Sale-2025.jpg
END:VEVENT
END:VCALENDAR