BEGIN:VCALENDAR
VERSION:2.0
PRODID:-//Metal Township Fire Company - ECPv6.15.17.1//NONSGML v1.0//EN
CALSCALE:GREGORIAN
METHOD:PUBLISH
X-WR-CALNAME:Metal Township Fire Company
X-ORIGINAL-URL:https://metaltwpfire.com
X-WR-CALDESC:Events for Metal Township Fire Company
REFRESH-INTERVAL;VALUE=DURATION:PT1H
X-Robots-Tag:noindex
X-PUBLISHED-TTL:PT1H
BEGIN:VTIMEZONE
TZID:America/New_York
BEGIN:DAYLIGHT
TZOFFSETFROM:-0500
TZOFFSETTO:-0400
TZNAME:EDT
DTSTART:20240310T070000
END:DAYLIGHT
BEGIN:STANDARD
TZOFFSETFROM:-0400
TZOFFSETTO:-0500
TZNAME:EST
DTSTART:20241103T060000
END:STANDARD
BEGIN:DAYLIGHT
TZOFFSETFROM:-0500
TZOFFSETTO:-0400
TZNAME:EDT
DTSTART:20250309T070000
END:DAYLIGHT
BEGIN:STANDARD
TZOFFSETFROM:-0400
TZOFFSETTO:-0500
TZNAME:EST
DTSTART:20251102T060000
END:STANDARD
BEGIN:DAYLIGHT
TZOFFSETFROM:-0500
TZOFFSETTO:-0400
TZNAME:EDT
DTSTART:20260308T070000
END:DAYLIGHT
BEGIN:STANDARD
TZOFFSETFROM:-0400
TZOFFSETTO:-0500
TZNAME:EST
DTSTART:20261101T060000
END:STANDARD
END:VTIMEZONE
BEGIN:VEVENT
DTSTART;TZID=America/New_York:20250614T100000
DTEND;TZID=America/New_York:20250614T170000
DTSTAMP:20260422T145752
CREATED:20250302T233108Z
LAST-MODIFIED:20250303T103039Z
UID:10000143-1749895200-1749920400@metaltwpfire.com
SUMMARY:GUN BASH
DESCRIPTION:TICKETS AVAILABLE at the fire station or from fire co members \nTickets are $10 – required for admittance to the event along with valid ID \nMust be 21 years or age to attend \nDrawing starts at noon – gates open at 10 am \nBring your own lawn chairs and canopy \nFood served from 12 noon to 3 pm \nLast drawing is at 4 pm – Event Grounds must be vacated by 5 pm
URL:https://metaltwpfire.com/event/gun-bash/
LOCATION:Metal Township Fire & Ambulance Co #21\, 10862 Path Valley Rd\, Fannettsburg\, PA\, 17221\, United States
CATEGORIES:Fundraising
ATTACH;FMTTYPE=image/jpeg:https://metaltwpfire.com/wp-content/uploads/2025/03/Gun-Bash-2025-scaled.jpg
END:VEVENT
END:VCALENDAR